BEGIN:VCALENDAR
VERSION:2.0
PRODID:-//Elite Sports Clubs - ECPv6.15.20//NONSGML v1.0//EN
CALSCALE:GREGORIAN
METHOD:PUBLISH
X-WR-CALNAME:Elite Sports Clubs
X-ORIGINAL-URL:https://eliteclubs.com
X-WR-CALDESC:Events for Elite Sports Clubs
REFRESH-INTERVAL;VALUE=DURATION:PT1H
X-Robots-Tag:noindex
X-PUBLISHED-TTL:PT1H
BEGIN:VTIMEZONE
TZID:America/Chicago
BEGIN:DAYLIGHT
TZOFFSETFROM:-0600
TZOFFSETTO:-0500
TZNAME:CDT
DTSTART:20250309T080000
END:DAYLIGHT
BEGIN:STANDARD
TZOFFSETFROM:-0500
TZOFFSETTO:-0600
TZNAME:CST
DTSTART:20251102T070000
END:STANDARD
BEGIN:DAYLIGHT
TZOFFSETFROM:-0600
TZOFFSETTO:-0500
TZNAME:CDT
DTSTART:20260308T080000
END:DAYLIGHT
BEGIN:STANDARD
TZOFFSETFROM:-0500
TZOFFSETTO:-0600
TZNAME:CST
DTSTART:20261101T070000
END:STANDARD
BEGIN:DAYLIGHT
TZOFFSETFROM:-0600
TZOFFSETTO:-0500
TZNAME:CDT
DTSTART:20270314T080000
END:DAYLIGHT
BEGIN:STANDARD
TZOFFSETFROM:-0500
TZOFFSETTO:-0600
TZNAME:CST
DTSTART:20271107T070000
END:STANDARD
END:VTIMEZONE
BEGIN:VEVENT
DTSTART;TZID=America/Chicago:20260112T180000
DTEND;TZID=America/Chicago:20260112T210000
DTSTAMP:20260425T172825
CREATED:20251114T222457Z
LAST-MODIFIED:20260102T155211Z
UID:10002439-1768240800-1768251600@eliteclubs.com
SUMMARY:Table Tennis League
DESCRIPTION:Whether you’re a seasoned player or just love the thrill of a great rally\, this league is all about enjoying the game. We welcome all skill levels in a friendly\, social atmosphere. Each week\, you’ll get plenty of match play with groups meeting at two different time slots. Every session wraps up with a tournament and party! \nSession 1: January 12th – February 23rd\nSession 2: March 9th – April 27th\nSession 3: June 1st – July 20th\nSession 4: September 14th – October 26th\nSession 5: November 9th – December 21st
URL:https://eliteclubs.com/event/table-tennis-league-2/2026-01-12/
LOCATION:Brookfield\, 13825 W Burleigh Rd\, Brookfield\, WI\, 53005\, United States
CATEGORIES:Table Tennis
ATTACH;FMTTYPE=image/jpeg:https://eliteclubs.com/wp-content/uploads/2025/11/Table-Tennis-League-Brookfield-2026.jpeg
ORGANIZER;CN="Scott Eigenberg":MAILTO:scotteigenberg@eliteclubs.com
GEO:43.073063;-88.0846633
X-APPLE-STRUCTURED-LOCATION;VALUE=URI;X-ADDRESS=Brookfield 13825 W Burleigh Rd Brookfield WI 53005 United States;X-APPLE-RADIUS=500;X-TITLE=13825 W Burleigh Rd:geo:-88.0846633,43.073063
END:VEVENT
BEGIN:VEVENT
DTSTART;TZID=America/Chicago:20260112T180000
DTEND;TZID=America/Chicago:20260112T210000
DTSTAMP:20260425T172825
CREATED:20241202T174158Z
LAST-MODIFIED:20241202T174158Z
UID:10001712-1768240800-1768251600@eliteclubs.com
SUMMARY:Full Court 4-on-4 Basketball League
DESCRIPTION:Have some fun with this competitive recreational full-court 4-on-4 league. Elite will provide jerseys\, keep stats/scores\, organize the regular season and playoffs\, and provide prizes for the winning team. You can make your own team of members or join in as a “free agent.” Reach out to scotteigenberg@eliteclubs.com for more information.
URL:https://eliteclubs.com/event/full-court-4-on-4-basketball-league/2026-01-12/
LOCATION:Brookfield\, 13825 W Burleigh Rd\, Brookfield\, WI\, 53005\, United States
CATEGORIES:Basketball
ATTACH;FMTTYPE=image/jpeg:https://eliteclubs.com/wp-content/uploads/2024/12/Full-Court-4-on-4-Basketball-League-Brookfield-2025.jpeg
ORGANIZER;CN="Scott Eigenberg":MAILTO:scotteigenberg@eliteclubs.com
GEO:43.073063;-88.0846633
X-APPLE-STRUCTURED-LOCATION;VALUE=URI;X-ADDRESS=Brookfield 13825 W Burleigh Rd Brookfield WI 53005 United States;X-APPLE-RADIUS=500;X-TITLE=13825 W Burleigh Rd:geo:-88.0846633,43.073063
END:VEVENT
BEGIN:VEVENT
DTSTART;TZID=America/Chicago:20260112T090000
DTEND;TZID=America/Chicago:20260112T100000
DTSTAMP:20260425T172825
CREATED:20250606T220449Z
LAST-MODIFIED:20250606T220449Z
UID:10002138-1768208400-1768212000@eliteclubs.com
SUMMARY:Stroke of the Month
DESCRIPTION:Bring your passion for tennis and prepare to learn in a lively atmosphere on the court. Our expert instructors will guide you through tailored techniques that will leave you feeling confident on the court. Each month\, we’ll dive deep into one stroke – from perfecting your forehand and backhand to enhancing your volleys\, overheads\, serves\, and returns. Whether you’re looking to polish up basic strokes or tackle advanced tactics\, there’s something here for every level of player. \nJune & October – Forehand\nJuly & November – Backhand\nAugust & December – Volley & Overheads\nSeptember & January – Serving & Returns
URL:https://eliteclubs.com/event/stroke-of-the-month/2026-01-12/
LOCATION:Mequon\, 11616 N Port Washington Rd\, Mequon\, WI\, 53092\, United States
CATEGORIES:Adult Tennis
ATTACH;FMTTYPE=image/jpeg:https://eliteclubs.com/wp-content/uploads/2025/06/Stroke-of-the-Month-Mequon-June-2025-January-2026.jpeg
ORGANIZER;CN="Michelle Guyant-Holloway":MAILTO:michelleguyantholloway@eliteclubs.com
GEO:43.2297505;-87.9214671
X-APPLE-STRUCTURED-LOCATION;VALUE=URI;X-ADDRESS=Mequon 11616 N Port Washington Rd Mequon WI 53092 United States;X-APPLE-RADIUS=500;X-TITLE=11616 N Port Washington Rd:geo:-87.9214671,43.2297505
END:VEVENT
BEGIN:VEVENT
DTSTART;TZID=America/Chicago:20260111T130000
DTEND;TZID=America/Chicago:20260111T160000
DTSTAMP:20260425T172825
CREATED:20251211T175037Z
LAST-MODIFIED:20251211T175037Z
UID:10002532-1768136400-1768147200@eliteclubs.com
SUMMARY:Yoga Retreat: Build a Habit of Harmony
DESCRIPTION:Get off to the right start in the New Year by establishing practices that help you be your best self. \nLed by Kirsten Hinz and Anne Ballentine. \nJoin us to learn how small\, consistent actions can lead to profound and lasting transformation. You will leave not only refreshed\, but equipped with the tools\, inspiration\, and personalized plan to maintain your newfound harmony long after the retreat ends. \nRetreat Highlights: \n\nIntention-setting\nYoga flow\nPsychology of habit formation\nJournaling with mindfulness practices\nBreathwork (pranayama) for stress management\nGuided meditation\nHealthy treats and time with fellow yogis\nOption to stay after for a sauna\, jacuzzi\, or any of the Elite amenities\n\n(Doors open at 12:30 PM; event starts promptly at 1 PM)
URL:https://eliteclubs.com/event/yoga-retreat-build-a-habit-of-harmony/
LOCATION:Mequon\, 11616 N Port Washington Rd\, Mequon\, WI\, 53092\, United States
CATEGORIES:Fitness & Wellness
ATTACH;FMTTYPE=image/jpeg:https://eliteclubs.com/wp-content/uploads/2025/12/Yoga-Retreat-Build-a-Habit-of-Harmony-Mequon-January-11-2026.jpeg
ORGANIZER;CN="Amy Hall":MAILTO:amyhall@eliteclubs.com
GEO:43.2297505;-87.9214671
X-APPLE-STRUCTURED-LOCATION;VALUE=URI;X-ADDRESS=Mequon 11616 N Port Washington Rd Mequon WI 53092 United States;X-APPLE-RADIUS=500;X-TITLE=11616 N Port Washington Rd:geo:-87.9214671,43.2297505
END:VEVENT
BEGIN:VEVENT
DTSTART;TZID=America/Chicago:20260111T110000
DTEND;TZID=America/Chicago:20260111T120000
DTSTAMP:20260425T172825
CREATED:20250715T160614Z
LAST-MODIFIED:20250715T160614Z
UID:10002169-1768129200-1768132800@eliteclubs.com
SUMMARY:Orange Ball Match Play
DESCRIPTION:Orange ballers unite for some singles match play supervised by our tennis team! Players need to know how to serve\, rally\, and score a match. Pro approval required. Scores will be tallied over the course of the season\, with prizes at the end for top players.
URL:https://eliteclubs.com/event/orange-ball-match-play/2026-01-11/
LOCATION:Brookfield\, 13825 W Burleigh Rd\, Brookfield\, WI\, 53005\, United States
CATEGORIES:10 & Under Tennis
ATTACH;FMTTYPE=image/jpeg:https://eliteclubs.com/wp-content/uploads/2025/07/Orange-Ball-Match-Play-Brookfield-September-2025-May-2026.jpeg
ORGANIZER;CN="Erika Wentz-Russell":MAILTO:erikawentzrussell@eliteclubs.com
GEO:43.073063;-88.0846633
X-APPLE-STRUCTURED-LOCATION;VALUE=URI;X-ADDRESS=Brookfield 13825 W Burleigh Rd Brookfield WI 53005 United States;X-APPLE-RADIUS=500;X-TITLE=13825 W Burleigh Rd:geo:-88.0846633,43.073063
END:VEVENT
BEGIN:VEVENT
DTSTART;TZID=America/Chicago:20260109T183000
DTEND;TZID=America/Chicago:20260109T203000
DTSTAMP:20260425T172825
CREATED:20251027T213545Z
LAST-MODIFIED:20251027T213545Z
UID:10002415-1767983400-1767990600@eliteclubs.com
SUMMARY:Drill & Play Tennis Social
DESCRIPTION:Join your Elite Tennis Staff for a themed tennis drill and play each month. \nMonthly Themes:\n10/31- Halloween\n11/21 – Thanksgiving\n12/12 – Holly Jolly\n1/9 – New Year’s Resolution\n2/13 – Valentines\n3/13 – March Madness\n4/10 – The Masters\n5/1 – Cinco De Mayo
URL:https://eliteclubs.com/event/drill-play-tennis-social/2026-01-09/
LOCATION:River Glen\, 2001 W Good Hope Rd\, Glendale\, WI\, 53209\, United States
CATEGORIES:Adult Tennis
ATTACH;FMTTYPE=image/jpeg:https://eliteclubs.com/wp-content/uploads/2025/10/Drill-Play-Tennis-Socials-River-Glen-2025-2026.jpeg
ORGANIZER;CN="Jon Calvillo":MAILTO:joncalvillo@eliteclubs.com
GEO:43.1475623;-87.9355963
X-APPLE-STRUCTURED-LOCATION;VALUE=URI;X-ADDRESS=River Glen 2001 W Good Hope Rd Glendale WI 53209 United States;X-APPLE-RADIUS=500;X-TITLE=2001 W Good Hope Rd:geo:-87.9355963,43.1475623
END:VEVENT
BEGIN:VEVENT
DTSTART;TZID=America/Chicago:20260109T180000
DTEND;TZID=America/Chicago:20260109T200000
DTSTAMP:20260425T172825
CREATED:20260107T170913Z
LAST-MODIFIED:20260107T170913Z
UID:10002558-1767981600-1767988800@eliteclubs.com
SUMMARY:Ladies Pickleball New Year Scramble
DESCRIPTION:90 minutes of match play\, new partners each round\, followed by snacks and drinks. All levels welcome\, ladies only.
URL:https://eliteclubs.com/event/ladies-pickleball-new-year-scramble/
LOCATION:Mequon\, 11616 N Port Washington Rd\, Mequon\, WI\, 53092\, United States
CATEGORIES:Pickleball
ATTACH;FMTTYPE=image/jpeg:https://eliteclubs.com/wp-content/uploads/2026/01/Ladies-Pickleball-New-Year-Scramble-Mequon-January-9-2026.jpeg
ORGANIZER;CN="Jon Schaff":MAILTO:JonSchaff@eliteclubs.com
GEO:43.2297505;-87.9214671
X-APPLE-STRUCTURED-LOCATION;VALUE=URI;X-ADDRESS=Mequon 11616 N Port Washington Rd Mequon WI 53092 United States;X-APPLE-RADIUS=500;X-TITLE=11616 N Port Washington Rd:geo:-87.9214671,43.2297505
END:VEVENT
BEGIN:VEVENT
DTSTART;TZID=America/Chicago:20260109T180000
DTEND;TZID=America/Chicago:20260109T200000
DTSTAMP:20260425T172825
CREATED:20250718T145113Z
LAST-MODIFIED:20260108T020651Z
UID:10002183-1767981600-1767988800@eliteclubs.com
SUMMARY:Adult Tennis Social
DESCRIPTION:Grab a partner and join us for a fun evening with friends! Mix around and meet new people for an evening of great tennis competition. If you don’t have a partner\, don’t worry\, a pro will pair you up. Your first drink is included! \nTennis in No Time Social: September 12th\nAdult Tennis Social 3.0: October 10th\nAdult Tennis Social 3.5/4.0: November 7th\nTennis in No Time Social: December 12th\nAdult Tennis Social 3.0: January 9th\nAdult Tennis Social 3.5/4.0: February 13th\nTennis in No Time Social: March 13th\nAdult Tennis Social 3.0: April 10th\nAdult Tennis Social 3.5/4.0: May 8th \nDon’t have a rating yet? Email us at tennis@eliteclubs.com.
URL:https://eliteclubs.com/event/adult-tennis-social/2026-01-09/
LOCATION:Brookfield\, 13825 W Burleigh Rd\, Brookfield\, WI\, 53005\, United States
CATEGORIES:Adult Tennis
ATTACH;FMTTYPE=image/jpeg:https://eliteclubs.com/wp-content/uploads/2025/07/Adult-Tennis-Socials-Brookfield-2025-2026.jpeg
ORGANIZER;CN="Erika Wentz-Russell":MAILTO:erikawentzrussell@eliteclubs.com
GEO:43.073063;-88.0846633
X-APPLE-STRUCTURED-LOCATION;VALUE=URI;X-ADDRESS=Brookfield 13825 W Burleigh Rd Brookfield WI 53005 United States;X-APPLE-RADIUS=500;X-TITLE=13825 W Burleigh Rd:geo:-88.0846633,43.073063
END:VEVENT
END:VCALENDAR