BEGIN:VCALENDAR
VERSION:2.0
PRODID:-//Elite Sports Clubs - ECPv6.15.20//NONSGML v1.0//EN
CALSCALE:GREGORIAN
METHOD:PUBLISH
X-WR-CALNAME:Elite Sports Clubs
X-ORIGINAL-URL:https://eliteclubs.com
X-WR-CALDESC:Events for Elite Sports Clubs
REFRESH-INTERVAL;VALUE=DURATION:PT1H
X-Robots-Tag:noindex
X-PUBLISHED-TTL:PT1H
BEGIN:VTIMEZONE
TZID:America/Chicago
BEGIN:DAYLIGHT
TZOFFSETFROM:-0600
TZOFFSETTO:-0500
TZNAME:CDT
DTSTART:20250309T080000
END:DAYLIGHT
BEGIN:STANDARD
TZOFFSETFROM:-0500
TZOFFSETTO:-0600
TZNAME:CST
DTSTART:20251102T070000
END:STANDARD
BEGIN:DAYLIGHT
TZOFFSETFROM:-0600
TZOFFSETTO:-0500
TZNAME:CDT
DTSTART:20260308T080000
END:DAYLIGHT
BEGIN:STANDARD
TZOFFSETFROM:-0500
TZOFFSETTO:-0600
TZNAME:CST
DTSTART:20261101T070000
END:STANDARD
BEGIN:DAYLIGHT
TZOFFSETFROM:-0600
TZOFFSETTO:-0500
TZNAME:CDT
DTSTART:20270314T080000
END:DAYLIGHT
BEGIN:STANDARD
TZOFFSETFROM:-0500
TZOFFSETTO:-0600
TZNAME:CST
DTSTART:20271107T070000
END:STANDARD
END:VTIMEZONE
BEGIN:VEVENT
DTSTART;TZID=America/Chicago:20260104T110000
DTEND;TZID=America/Chicago:20260104T120000
DTSTAMP:20260421T214633
CREATED:20250710T210801Z
LAST-MODIFIED:20250710T210801Z
UID:10002157-1767524400-1767528000@eliteclubs.com
SUMMARY:Red Ball Tennis Festival
DESCRIPTION:Join us for our monthly Red Ball Tennis Festivals! Navigate through this fun tennis adventure with stations and games to help enhance your child’s tennis skills.
URL:https://eliteclubs.com/event/red-ball-tennis-festival/2026-01-04/
LOCATION:Brookfield\, 13825 W Burleigh Rd\, Brookfield\, WI\, 53005\, United States
CATEGORIES:10 & Under Tennis
ATTACH;FMTTYPE=image/jpeg:https://eliteclubs.com/wp-content/uploads/2025/07/Red-Ball-Tennis-Festival-Brookfield-2025-2026.jpeg
ORGANIZER;CN="Erika Wentz-Russell":MAILTO:erikawentzrussell@eliteclubs.com
GEO:43.073063;-88.0846633
X-APPLE-STRUCTURED-LOCATION;VALUE=URI;X-ADDRESS=Brookfield 13825 W Burleigh Rd Brookfield WI 53005 United States;X-APPLE-RADIUS=500;X-TITLE=13825 W Burleigh Rd:geo:-88.0846633,43.073063
END:VEVENT
BEGIN:VEVENT
DTSTART;TZID=America/Chicago:20260105T090000
DTEND;TZID=America/Chicago:20260105T100000
DTSTAMP:20260421T214633
CREATED:20250606T220449Z
LAST-MODIFIED:20250606T220449Z
UID:10002136-1767603600-1767607200@eliteclubs.com
SUMMARY:Stroke of the Month
DESCRIPTION:Bring your passion for tennis and prepare to learn in a lively atmosphere on the court. Our expert instructors will guide you through tailored techniques that will leave you feeling confident on the court. Each month\, we’ll dive deep into one stroke – from perfecting your forehand and backhand to enhancing your volleys\, overheads\, serves\, and returns. Whether you’re looking to polish up basic strokes or tackle advanced tactics\, there’s something here for every level of player. \nJune & October – Forehand\nJuly & November – Backhand\nAugust & December – Volley & Overheads\nSeptember & January – Serving & Returns
URL:https://eliteclubs.com/event/stroke-of-the-month/2026-01-05/
LOCATION:Mequon\, 11616 N Port Washington Rd\, Mequon\, WI\, 53092\, United States
CATEGORIES:Adult Tennis
ATTACH;FMTTYPE=image/jpeg:https://eliteclubs.com/wp-content/uploads/2025/06/Stroke-of-the-Month-Mequon-June-2025-January-2026.jpeg
ORGANIZER;CN="Michelle Guyant-Holloway":MAILTO:michelleguyantholloway@eliteclubs.com
GEO:43.2297505;-87.9214671
X-APPLE-STRUCTURED-LOCATION;VALUE=URI;X-ADDRESS=Mequon 11616 N Port Washington Rd Mequon WI 53092 United States;X-APPLE-RADIUS=500;X-TITLE=11616 N Port Washington Rd:geo:-87.9214671,43.2297505
END:VEVENT
BEGIN:VEVENT
DTSTART;TZID=America/Chicago:20260107T090000
DTEND;TZID=America/Chicago:20260107T100000
DTSTAMP:20260421T214633
CREATED:20250606T220449Z
LAST-MODIFIED:20250606T220449Z
UID:10002137-1767776400-1767780000@eliteclubs.com
SUMMARY:Stroke of the Month
DESCRIPTION:Bring your passion for tennis and prepare to learn in a lively atmosphere on the court. Our expert instructors will guide you through tailored techniques that will leave you feeling confident on the court. Each month\, we’ll dive deep into one stroke – from perfecting your forehand and backhand to enhancing your volleys\, overheads\, serves\, and returns. Whether you’re looking to polish up basic strokes or tackle advanced tactics\, there’s something here for every level of player. \nJune & October – Forehand\nJuly & November – Backhand\nAugust & December – Volley & Overheads\nSeptember & January – Serving & Returns
URL:https://eliteclubs.com/event/stroke-of-the-month/2026-01-07/
LOCATION:Mequon\, 11616 N Port Washington Rd\, Mequon\, WI\, 53092\, United States
CATEGORIES:Adult Tennis
ATTACH;FMTTYPE=image/jpeg:https://eliteclubs.com/wp-content/uploads/2025/06/Stroke-of-the-Month-Mequon-June-2025-January-2026.jpeg
ORGANIZER;CN="Michelle Guyant-Holloway":MAILTO:michelleguyantholloway@eliteclubs.com
GEO:43.2297505;-87.9214671
X-APPLE-STRUCTURED-LOCATION;VALUE=URI;X-ADDRESS=Mequon 11616 N Port Washington Rd Mequon WI 53092 United States;X-APPLE-RADIUS=500;X-TITLE=11616 N Port Washington Rd:geo:-87.9214671,43.2297505
END:VEVENT
BEGIN:VEVENT
DTSTART;TZID=America/Chicago:20260109T180000
DTEND;TZID=America/Chicago:20260109T200000
DTSTAMP:20260421T214633
CREATED:20250718T145113Z
LAST-MODIFIED:20260108T020651Z
UID:10002183-1767981600-1767988800@eliteclubs.com
SUMMARY:Adult Tennis Social
DESCRIPTION:Grab a partner and join us for a fun evening with friends! Mix around and meet new people for an evening of great tennis competition. If you don’t have a partner\, don’t worry\, a pro will pair you up. Your first drink is included! \nTennis in No Time Social: September 12th\nAdult Tennis Social 3.0: October 10th\nAdult Tennis Social 3.5/4.0: November 7th\nTennis in No Time Social: December 12th\nAdult Tennis Social 3.0: January 9th\nAdult Tennis Social 3.5/4.0: February 13th\nTennis in No Time Social: March 13th\nAdult Tennis Social 3.0: April 10th\nAdult Tennis Social 3.5/4.0: May 8th \nDon’t have a rating yet? Email us at tennis@eliteclubs.com.
URL:https://eliteclubs.com/event/adult-tennis-social/2026-01-09/
LOCATION:Brookfield\, 13825 W Burleigh Rd\, Brookfield\, WI\, 53005\, United States
CATEGORIES:Adult Tennis
ATTACH;FMTTYPE=image/jpeg:https://eliteclubs.com/wp-content/uploads/2025/07/Adult-Tennis-Socials-Brookfield-2025-2026.jpeg
ORGANIZER;CN="Erika Wentz-Russell":MAILTO:erikawentzrussell@eliteclubs.com
GEO:43.073063;-88.0846633
X-APPLE-STRUCTURED-LOCATION;VALUE=URI;X-ADDRESS=Brookfield 13825 W Burleigh Rd Brookfield WI 53005 United States;X-APPLE-RADIUS=500;X-TITLE=13825 W Burleigh Rd:geo:-88.0846633,43.073063
END:VEVENT
BEGIN:VEVENT
DTSTART;TZID=America/Chicago:20260109T183000
DTEND;TZID=America/Chicago:20260109T203000
DTSTAMP:20260421T214633
CREATED:20251027T213545Z
LAST-MODIFIED:20251027T213545Z
UID:10002415-1767983400-1767990600@eliteclubs.com
SUMMARY:Drill & Play Tennis Social
DESCRIPTION:Join your Elite Tennis Staff for a themed tennis drill and play each month. \nMonthly Themes:\n10/31- Halloween\n11/21 – Thanksgiving\n12/12 – Holly Jolly\n1/9 – New Year’s Resolution\n2/13 – Valentines\n3/13 – March Madness\n4/10 – The Masters\n5/1 – Cinco De Mayo
URL:https://eliteclubs.com/event/drill-play-tennis-social/2026-01-09/
LOCATION:River Glen\, 2001 W Good Hope Rd\, Glendale\, WI\, 53209\, United States
CATEGORIES:Adult Tennis
ATTACH;FMTTYPE=image/jpeg:https://eliteclubs.com/wp-content/uploads/2025/10/Drill-Play-Tennis-Socials-River-Glen-2025-2026.jpeg
ORGANIZER;CN="Jon Calvillo":MAILTO:joncalvillo@eliteclubs.com
GEO:43.1475623;-87.9355963
X-APPLE-STRUCTURED-LOCATION;VALUE=URI;X-ADDRESS=River Glen 2001 W Good Hope Rd Glendale WI 53209 United States;X-APPLE-RADIUS=500;X-TITLE=2001 W Good Hope Rd:geo:-87.9355963,43.1475623
END:VEVENT
BEGIN:VEVENT
DTSTART;TZID=America/Chicago:20260111T110000
DTEND;TZID=America/Chicago:20260111T120000
DTSTAMP:20260421T214633
CREATED:20250715T160614Z
LAST-MODIFIED:20250715T160614Z
UID:10002169-1768129200-1768132800@eliteclubs.com
SUMMARY:Orange Ball Match Play
DESCRIPTION:Orange ballers unite for some singles match play supervised by our tennis team! Players need to know how to serve\, rally\, and score a match. Pro approval required. Scores will be tallied over the course of the season\, with prizes at the end for top players.
URL:https://eliteclubs.com/event/orange-ball-match-play/2026-01-11/
LOCATION:Brookfield\, 13825 W Burleigh Rd\, Brookfield\, WI\, 53005\, United States
CATEGORIES:10 & Under Tennis
ATTACH;FMTTYPE=image/jpeg:https://eliteclubs.com/wp-content/uploads/2025/07/Orange-Ball-Match-Play-Brookfield-September-2025-May-2026.jpeg
ORGANIZER;CN="Erika Wentz-Russell":MAILTO:erikawentzrussell@eliteclubs.com
GEO:43.073063;-88.0846633
X-APPLE-STRUCTURED-LOCATION;VALUE=URI;X-ADDRESS=Brookfield 13825 W Burleigh Rd Brookfield WI 53005 United States;X-APPLE-RADIUS=500;X-TITLE=13825 W Burleigh Rd:geo:-88.0846633,43.073063
END:VEVENT
BEGIN:VEVENT
DTSTART;TZID=America/Chicago:20260112T090000
DTEND;TZID=America/Chicago:20260112T100000
DTSTAMP:20260421T214633
CREATED:20250606T220449Z
LAST-MODIFIED:20250606T220449Z
UID:10002138-1768208400-1768212000@eliteclubs.com
SUMMARY:Stroke of the Month
DESCRIPTION:Bring your passion for tennis and prepare to learn in a lively atmosphere on the court. Our expert instructors will guide you through tailored techniques that will leave you feeling confident on the court. Each month\, we’ll dive deep into one stroke – from perfecting your forehand and backhand to enhancing your volleys\, overheads\, serves\, and returns. Whether you’re looking to polish up basic strokes or tackle advanced tactics\, there’s something here for every level of player. \nJune & October – Forehand\nJuly & November – Backhand\nAugust & December – Volley & Overheads\nSeptember & January – Serving & Returns
URL:https://eliteclubs.com/event/stroke-of-the-month/2026-01-12/
LOCATION:Mequon\, 11616 N Port Washington Rd\, Mequon\, WI\, 53092\, United States
CATEGORIES:Adult Tennis
ATTACH;FMTTYPE=image/jpeg:https://eliteclubs.com/wp-content/uploads/2025/06/Stroke-of-the-Month-Mequon-June-2025-January-2026.jpeg
ORGANIZER;CN="Michelle Guyant-Holloway":MAILTO:michelleguyantholloway@eliteclubs.com
GEO:43.2297505;-87.9214671
X-APPLE-STRUCTURED-LOCATION;VALUE=URI;X-ADDRESS=Mequon 11616 N Port Washington Rd Mequon WI 53092 United States;X-APPLE-RADIUS=500;X-TITLE=11616 N Port Washington Rd:geo:-87.9214671,43.2297505
END:VEVENT
BEGIN:VEVENT
DTSTART;TZID=America/Chicago:20260114T090000
DTEND;TZID=America/Chicago:20260114T100000
DTSTAMP:20260421T214633
CREATED:20250606T220449Z
LAST-MODIFIED:20250606T220449Z
UID:10002139-1768381200-1768384800@eliteclubs.com
SUMMARY:Stroke of the Month
DESCRIPTION:Bring your passion for tennis and prepare to learn in a lively atmosphere on the court. Our expert instructors will guide you through tailored techniques that will leave you feeling confident on the court. Each month\, we’ll dive deep into one stroke – from perfecting your forehand and backhand to enhancing your volleys\, overheads\, serves\, and returns. Whether you’re looking to polish up basic strokes or tackle advanced tactics\, there’s something here for every level of player. \nJune & October – Forehand\nJuly & November – Backhand\nAugust & December – Volley & Overheads\nSeptember & January – Serving & Returns
URL:https://eliteclubs.com/event/stroke-of-the-month/2026-01-14/
LOCATION:Mequon\, 11616 N Port Washington Rd\, Mequon\, WI\, 53092\, United States
CATEGORIES:Adult Tennis
ATTACH;FMTTYPE=image/jpeg:https://eliteclubs.com/wp-content/uploads/2025/06/Stroke-of-the-Month-Mequon-June-2025-January-2026.jpeg
ORGANIZER;CN="Michelle Guyant-Holloway":MAILTO:michelleguyantholloway@eliteclubs.com
GEO:43.2297505;-87.9214671
X-APPLE-STRUCTURED-LOCATION;VALUE=URI;X-ADDRESS=Mequon 11616 N Port Washington Rd Mequon WI 53092 United States;X-APPLE-RADIUS=500;X-TITLE=11616 N Port Washington Rd:geo:-87.9214671,43.2297505
END:VEVENT
BEGIN:VEVENT
DTSTART;TZID=America/Chicago:20260116T180000
DTEND;TZID=America/Chicago:20260116T200000
DTSTAMP:20260421T214633
CREATED:20250723T195453Z
LAST-MODIFIED:20250723T195453Z
UID:10002192-1768586400-1768593600@eliteclubs.com
SUMMARY:Junior Elite Doubles Night
DESCRIPTION:Grab a partner and join us for a night of doubles play with modified scoring and round robin play. Scores will be tallied over the course of the season\, with prizes at the end for top teams. \nThis special monthly event is for junior tennis players with a Universal Tennis Rating (UTR) of 1.25-3.00 and 3.01-4.74\, and 4.75+. Pro approval required. \nPizza and drinks are included. Sign up with your partner. Space is limited!
URL:https://eliteclubs.com/event/junior-elite-doubles-night/2026-01-16/
LOCATION:Brookfield\, 13825 W Burleigh Rd\, Brookfield\, WI\, 53005\, United States
CATEGORIES:11 & Up Tennis
ATTACH;FMTTYPE=image/jpeg:https://eliteclubs.com/wp-content/uploads/2025/07/Junior-Elite-Doubles-Night-Brookfield-2025-2026.jpeg
ORGANIZER;CN="Erika Wentz-Russell":MAILTO:erikawentzrussell@eliteclubs.com
GEO:43.073063;-88.0846633
X-APPLE-STRUCTURED-LOCATION;VALUE=URI;X-ADDRESS=Brookfield 13825 W Burleigh Rd Brookfield WI 53005 United States;X-APPLE-RADIUS=500;X-TITLE=13825 W Burleigh Rd:geo:-88.0846633,43.073063
END:VEVENT
BEGIN:VEVENT
DTSTART;TZID=America/Chicago:20260117T130000
DTEND;TZID=America/Chicago:20260117T150000
DTSTAMP:20260421T214633
CREATED:20251219T173350Z
LAST-MODIFIED:20251219T173350Z
UID:10002545-1768654800-1768662000@eliteclubs.com
SUMMARY:Elite Men's Tennis Showdown (Hosted at North Shore)
DESCRIPTION:Sign up individually\, and we will place you on a team with three other players. Team play will be on a singles court and a doubles court. 2 hours of play\, then social time after with snacks and drinks included.
URL:https://eliteclubs.com/event/elite-mens-tennis-showdown-hosted-at-north-shore/
LOCATION:Brookfield\, 13825 W Burleigh Rd\, Brookfield\, WI\, 53005\, United States
CATEGORIES:Adult Tennis
ATTACH;FMTTYPE=image/jpeg:https://eliteclubs.com/wp-content/uploads/2025/12/Elite-Mens-Tennis-Showdown-North-Shore-January-17-2026.jpg
ORGANIZER;CN="Jon Schaff":MAILTO:JonSchaff@eliteclubs.com
GEO:43.073063;-88.0846633
X-APPLE-STRUCTURED-LOCATION;VALUE=URI;X-ADDRESS=Brookfield 13825 W Burleigh Rd Brookfield WI 53005 United States;X-APPLE-RADIUS=500;X-TITLE=13825 W Burleigh Rd:geo:-88.0846633,43.073063
END:VEVENT
BEGIN:VEVENT
DTSTART;TZID=America/Chicago:20260118T110000
DTEND;TZID=America/Chicago:20260118T130000
DTSTAMP:20260421T214633
CREATED:20250725T194848Z
LAST-MODIFIED:20250725T194848Z
UID:10002203-1768734000-1768741200@eliteclubs.com
SUMMARY:Green Ball Match Play Series
DESCRIPTION:Green ballers unite for some singles match play supervised by our tennis team! Players need to know how to serve\, rally\, and score a match. Pro approval required. Scores will be tallied over the course of the season\, with prizes at the end for top players.
URL:https://eliteclubs.com/event/green-ball-match-play-series/2026-01-18/
LOCATION:Brookfield\, 13825 W Burleigh Rd\, Brookfield\, WI\, 53005\, United States
CATEGORIES:10 & Under Tennis
ATTACH;FMTTYPE=image/jpeg:https://eliteclubs.com/wp-content/uploads/2025/07/Green-Ball-Match-Play-Series-Brookfield-2025-2026.jpeg
ORGANIZER;CN="Erika Wentz-Russell":MAILTO:erikawentzrussell@eliteclubs.com
GEO:43.073063;-88.0846633
X-APPLE-STRUCTURED-LOCATION;VALUE=URI;X-ADDRESS=Brookfield 13825 W Burleigh Rd Brookfield WI 53005 United States;X-APPLE-RADIUS=500;X-TITLE=13825 W Burleigh Rd:geo:-88.0846633,43.073063
END:VEVENT
BEGIN:VEVENT
DTSTART;TZID=America/Chicago:20260119T090000
DTEND;TZID=America/Chicago:20260119T100000
DTSTAMP:20260421T214633
CREATED:20250606T220449Z
LAST-MODIFIED:20250606T220449Z
UID:10002140-1768813200-1768816800@eliteclubs.com
SUMMARY:Stroke of the Month
DESCRIPTION:Bring your passion for tennis and prepare to learn in a lively atmosphere on the court. Our expert instructors will guide you through tailored techniques that will leave you feeling confident on the court. Each month\, we’ll dive deep into one stroke – from perfecting your forehand and backhand to enhancing your volleys\, overheads\, serves\, and returns. Whether you’re looking to polish up basic strokes or tackle advanced tactics\, there’s something here for every level of player. \nJune & October – Forehand\nJuly & November – Backhand\nAugust & December – Volley & Overheads\nSeptember & January – Serving & Returns
URL:https://eliteclubs.com/event/stroke-of-the-month/2026-01-19/
LOCATION:Mequon\, 11616 N Port Washington Rd\, Mequon\, WI\, 53092\, United States
CATEGORIES:Adult Tennis
ATTACH;FMTTYPE=image/jpeg:https://eliteclubs.com/wp-content/uploads/2025/06/Stroke-of-the-Month-Mequon-June-2025-January-2026.jpeg
ORGANIZER;CN="Michelle Guyant-Holloway":MAILTO:michelleguyantholloway@eliteclubs.com
GEO:43.2297505;-87.9214671
X-APPLE-STRUCTURED-LOCATION;VALUE=URI;X-ADDRESS=Mequon 11616 N Port Washington Rd Mequon WI 53092 United States;X-APPLE-RADIUS=500;X-TITLE=11616 N Port Washington Rd:geo:-87.9214671,43.2297505
END:VEVENT
BEGIN:VEVENT
DTSTART;TZID=America/Chicago:20260121T090000
DTEND;TZID=America/Chicago:20260121T100000
DTSTAMP:20260421T214633
CREATED:20250606T220449Z
LAST-MODIFIED:20250606T220449Z
UID:10002141-1768986000-1768989600@eliteclubs.com
SUMMARY:Stroke of the Month
DESCRIPTION:Bring your passion for tennis and prepare to learn in a lively atmosphere on the court. Our expert instructors will guide you through tailored techniques that will leave you feeling confident on the court. Each month\, we’ll dive deep into one stroke – from perfecting your forehand and backhand to enhancing your volleys\, overheads\, serves\, and returns. Whether you’re looking to polish up basic strokes or tackle advanced tactics\, there’s something here for every level of player. \nJune & October – Forehand\nJuly & November – Backhand\nAugust & December – Volley & Overheads\nSeptember & January – Serving & Returns
URL:https://eliteclubs.com/event/stroke-of-the-month/2026-01-21/
LOCATION:Mequon\, 11616 N Port Washington Rd\, Mequon\, WI\, 53092\, United States
CATEGORIES:Adult Tennis
ATTACH;FMTTYPE=image/jpeg:https://eliteclubs.com/wp-content/uploads/2025/06/Stroke-of-the-Month-Mequon-June-2025-January-2026.jpeg
ORGANIZER;CN="Michelle Guyant-Holloway":MAILTO:michelleguyantholloway@eliteclubs.com
GEO:43.2297505;-87.9214671
X-APPLE-STRUCTURED-LOCATION;VALUE=URI;X-ADDRESS=Mequon 11616 N Port Washington Rd Mequon WI 53092 United States;X-APPLE-RADIUS=500;X-TITLE=11616 N Port Washington Rd:geo:-87.9214671,43.2297505
END:VEVENT
BEGIN:VEVENT
DTSTART;TZID=America/Chicago:20260123T173000
DTEND;TZID=America/Chicago:20260123T193000
DTSTAMP:20260421T214633
CREATED:20260108T231107Z
LAST-MODIFIED:20260108T231107Z
UID:10002561-1769189400-1769196600@eliteclubs.com
SUMMARY:Disco Adult Tennis Mixer
DESCRIPTION:Co-ed\, 2 hours of round robin play followed by snacks and drinks. Featuring disco music\, costumes are encouraged!
URL:https://eliteclubs.com/event/disco-adult-tennis-mixer/
LOCATION:Mequon\, 11616 N Port Washington Rd\, Mequon\, WI\, 53092\, United States
CATEGORIES:Adult Tennis
ATTACH;FMTTYPE=image/jpeg:https://eliteclubs.com/wp-content/uploads/2026/01/Disco-Adult-Tennis-Mixer-Mequon-January-23-2026.jpeg
ORGANIZER;CN="Jon Schaff":MAILTO:JonSchaff@eliteclubs.com
GEO:43.2297505;-87.9214671
X-APPLE-STRUCTURED-LOCATION;VALUE=URI;X-ADDRESS=Mequon 11616 N Port Washington Rd Mequon WI 53092 United States;X-APPLE-RADIUS=500;X-TITLE=11616 N Port Washington Rd:geo:-87.9214671,43.2297505
END:VEVENT
BEGIN:VEVENT
DTSTART;TZID=America/Chicago:20260126T090000
DTEND;TZID=America/Chicago:20260126T100000
DTSTAMP:20260421T214633
CREATED:20250606T220449Z
LAST-MODIFIED:20250606T220449Z
UID:10002142-1769418000-1769421600@eliteclubs.com
SUMMARY:Stroke of the Month
DESCRIPTION:Bring your passion for tennis and prepare to learn in a lively atmosphere on the court. Our expert instructors will guide you through tailored techniques that will leave you feeling confident on the court. Each month\, we’ll dive deep into one stroke – from perfecting your forehand and backhand to enhancing your volleys\, overheads\, serves\, and returns. Whether you’re looking to polish up basic strokes or tackle advanced tactics\, there’s something here for every level of player. \nJune & October – Forehand\nJuly & November – Backhand\nAugust & December – Volley & Overheads\nSeptember & January – Serving & Returns
URL:https://eliteclubs.com/event/stroke-of-the-month/2026-01-26/
LOCATION:Mequon\, 11616 N Port Washington Rd\, Mequon\, WI\, 53092\, United States
CATEGORIES:Adult Tennis
ATTACH;FMTTYPE=image/jpeg:https://eliteclubs.com/wp-content/uploads/2025/06/Stroke-of-the-Month-Mequon-June-2025-January-2026.jpeg
ORGANIZER;CN="Michelle Guyant-Holloway":MAILTO:michelleguyantholloway@eliteclubs.com
GEO:43.2297505;-87.9214671
X-APPLE-STRUCTURED-LOCATION;VALUE=URI;X-ADDRESS=Mequon 11616 N Port Washington Rd Mequon WI 53092 United States;X-APPLE-RADIUS=500;X-TITLE=11616 N Port Washington Rd:geo:-87.9214671,43.2297505
END:VEVENT
BEGIN:VEVENT
DTSTART;TZID=America/Chicago:20260128T090000
DTEND;TZID=America/Chicago:20260128T100000
DTSTAMP:20260421T214633
CREATED:20250606T220449Z
LAST-MODIFIED:20250606T220449Z
UID:10002143-1769590800-1769594400@eliteclubs.com
SUMMARY:Stroke of the Month
DESCRIPTION:Bring your passion for tennis and prepare to learn in a lively atmosphere on the court. Our expert instructors will guide you through tailored techniques that will leave you feeling confident on the court. Each month\, we’ll dive deep into one stroke – from perfecting your forehand and backhand to enhancing your volleys\, overheads\, serves\, and returns. Whether you’re looking to polish up basic strokes or tackle advanced tactics\, there’s something here for every level of player. \nJune & October – Forehand\nJuly & November – Backhand\nAugust & December – Volley & Overheads\nSeptember & January – Serving & Returns
URL:https://eliteclubs.com/event/stroke-of-the-month/2026-01-28/
LOCATION:Mequon\, 11616 N Port Washington Rd\, Mequon\, WI\, 53092\, United States
CATEGORIES:Adult Tennis
ATTACH;FMTTYPE=image/jpeg:https://eliteclubs.com/wp-content/uploads/2025/06/Stroke-of-the-Month-Mequon-June-2025-January-2026.jpeg
ORGANIZER;CN="Michelle Guyant-Holloway":MAILTO:michelleguyantholloway@eliteclubs.com
GEO:43.2297505;-87.9214671
X-APPLE-STRUCTURED-LOCATION;VALUE=URI;X-ADDRESS=Mequon 11616 N Port Washington Rd Mequon WI 53092 United States;X-APPLE-RADIUS=500;X-TITLE=11616 N Port Washington Rd:geo:-87.9214671,43.2297505
END:VEVENT
END:VCALENDAR