BEGIN:VCALENDAR
VERSION:2.0
PRODID:-//Elite Sports Clubs - ECPv6.15.20//NONSGML v1.0//EN
CALSCALE:GREGORIAN
METHOD:PUBLISH
X-ORIGINAL-URL:https://eliteclubs.com
X-WR-CALDESC:Events for Elite Sports Clubs
REFRESH-INTERVAL;VALUE=DURATION:PT1H
X-Robots-Tag:noindex
X-PUBLISHED-TTL:PT1H
BEGIN:VTIMEZONE
TZID:America/Chicago
BEGIN:DAYLIGHT
TZOFFSETFROM:-0600
TZOFFSETTO:-0500
TZNAME:CDT
DTSTART:20250309T080000
END:DAYLIGHT
BEGIN:STANDARD
TZOFFSETFROM:-0500
TZOFFSETTO:-0600
TZNAME:CST
DTSTART:20251102T070000
END:STANDARD
BEGIN:DAYLIGHT
TZOFFSETFROM:-0600
TZOFFSETTO:-0500
TZNAME:CDT
DTSTART:20260308T080000
END:DAYLIGHT
BEGIN:STANDARD
TZOFFSETFROM:-0500
TZOFFSETTO:-0600
TZNAME:CST
DTSTART:20261101T070000
END:STANDARD
BEGIN:DAYLIGHT
TZOFFSETFROM:-0600
TZOFFSETTO:-0500
TZNAME:CDT
DTSTART:20270314T080000
END:DAYLIGHT
BEGIN:STANDARD
TZOFFSETFROM:-0500
TZOFFSETTO:-0600
TZNAME:CST
DTSTART:20271107T070000
END:STANDARD
END:VTIMEZONE
BEGIN:VEVENT
DTSTART;TZID=America/Chicago:20260423T180000
DTEND;TZID=America/Chicago:20260423T190000
DTSTAMP:20260421T025619
CREATED:20260402T211509Z
LAST-MODIFIED:20260402T211509Z
UID:10002732-1776967200-1776970800@eliteclubs.com
SUMMARY:Luxury Bingo Night: Caviar Edition
DESCRIPTION:Join us for a fun and elevated twist on a classic favorite—Bingo night with a touch of luxury! Enjoy a relaxed evening of bingo paired with a caviar experience and light bubbly refreshments. Whether you’re here for the games\, the social atmosphere\, or the unique experience\, this is the perfect night to unwind\, connect with other members\, and try something a little different at the club. \nPrizes\, laughs\, and a touch of luxury await—don’t miss it! \nBring a non-member friend and get 50% off your registration!
URL:https://eliteclubs.com/event/luxury-bingo-night-caviar-edition/
LOCATION:Mequon\, 11616 N Port Washington Rd\, Mequon\, WI\, 53092\, United States
CATEGORIES:Social Events
ATTACH;FMTTYPE=image/jpeg:https://eliteclubs.com/wp-content/uploads/2026/04/Luxury-Bingo-Night-Caviar-Edition-Mequon-April-23-2026.jpeg
ORGANIZER;CN="Morgan Konz":MAILTO:morgankonz@eliteclubs.com
GEO:43.2297505;-87.9214671
X-APPLE-STRUCTURED-LOCATION;VALUE=URI;X-ADDRESS=Mequon 11616 N Port Washington Rd Mequon WI 53092 United States;X-APPLE-RADIUS=500;X-TITLE=11616 N Port Washington Rd:geo:-87.9214671,43.2297505
END:VEVENT
BEGIN:VEVENT
DTSTART;TZID=America/Chicago:20260430T174500
DTEND;TZID=America/Chicago:20260430T191500
DTSTAMP:20260421T025619
CREATED:20260401T190901Z
LAST-MODIFIED:20260401T190919Z
UID:10002728-1777571100-1777576500@eliteclubs.com
SUMMARY:Bend & Sip
DESCRIPTION:Join us for a relaxing evening of movement and unwind with Kendall’s 5:45 PM yoga class! After class\, enjoy a complimentary glass of wine when you sign up for this special event. This is the perfect way to stretch\, de-stress\, and connect with others in a welcoming and social atmosphere. \nSpace is limited so reserve your spot and treat yourself to a well-deserved evening of wellness and relaxation. (Don’t forget to invite your friends!)
URL:https://eliteclubs.com/event/bend-sip/
LOCATION:Mequon\, 11616 N Port Washington Rd\, Mequon\, WI\, 53092\, United States
CATEGORIES:Fitness & Wellness,Social Events
ATTACH;FMTTYPE=image/jpeg:https://eliteclubs.com/wp-content/uploads/2026/04/Bend-Sip-Mequon-April-30-2026.jpeg
ORGANIZER;CN="Morgan Konz":MAILTO:morgankonz@eliteclubs.com
GEO:43.2297505;-87.9214671
X-APPLE-STRUCTURED-LOCATION;VALUE=URI;X-ADDRESS=Mequon 11616 N Port Washington Rd Mequon WI 53092 United States;X-APPLE-RADIUS=500;X-TITLE=11616 N Port Washington Rd:geo:-87.9214671,43.2297505
END:VEVENT
BEGIN:VEVENT
DTSTART;TZID=America/Chicago:20260501T100000
DTEND;TZID=America/Chicago:20260501T110000
DTSTAMP:20260421T025619
CREATED:20260415T164341Z
LAST-MODIFIED:20260415T164341Z
UID:10002741-1777629600-1777633200@eliteclubs.com
SUMMARY:Coffee & Conversations
DESCRIPTION:Join us for a relaxed and welcoming morning of coffee and conversation! This is a casual event designed to bring members together to connect\, meet new people\, and enjoy a warm cup of coffee in a comfortable setting. \nWhether you’re new to the club or a longtime member\, this is a great opportunity to slow down\, socialize\, and start your day with good company and great conversation.
URL:https://eliteclubs.com/event/coffee-conversations/2026-05-01/
LOCATION:Mequon\, 11616 N Port Washington Rd\, Mequon\, WI\, 53092\, United States
CATEGORIES:Social Events
ATTACH;FMTTYPE=image/jpeg:https://eliteclubs.com/wp-content/uploads/2026/04/Coffee-and-Conversations-Mequon-Fridays-in-May.jpeg
ORGANIZER;CN="Morgan Konz":MAILTO:morgankonz@eliteclubs.com
GEO:43.2297505;-87.9214671
X-APPLE-STRUCTURED-LOCATION;VALUE=URI;X-ADDRESS=Mequon 11616 N Port Washington Rd Mequon WI 53092 United States;X-APPLE-RADIUS=500;X-TITLE=11616 N Port Washington Rd:geo:-87.9214671,43.2297505
END:VEVENT
BEGIN:VEVENT
DTSTART;TZID=America/Chicago:20260502T170000
DTEND;TZID=America/Chicago:20260502T183000
DTSTAMP:20260421T025619
CREATED:20260320T202224Z
LAST-MODIFIED:20260320T202224Z
UID:10002721-1777741200-1777746600@eliteclubs.com
SUMMARY:Cinco de Mayo Zumba Party
DESCRIPTION:Dance and celebrate Cinco de Mayo with a Latin-inspired Zumba Party! Join us for a fun-filled evening of fitness\, music\, and refreshments with your Elite instructors.
URL:https://eliteclubs.com/event/cinco-de-mayo-zumba-party/
LOCATION:River Glen\, 2001 W Good Hope Rd\, Glendale\, WI\, 53209\, United States
CATEGORIES:Fitness & Wellness,Social Events
ATTACH;FMTTYPE=image/jpeg:https://eliteclubs.com/wp-content/uploads/2026/03/Cinco-de-Mayo-Zumba-Party-River-Glen-May-2-2026.jpeg
ORGANIZER;CN="Amy Hall":MAILTO:amyhall@eliteclubs.com
GEO:43.1475623;-87.9355963
X-APPLE-STRUCTURED-LOCATION;VALUE=URI;X-ADDRESS=River Glen 2001 W Good Hope Rd Glendale WI 53209 United States;X-APPLE-RADIUS=500;X-TITLE=2001 W Good Hope Rd:geo:-87.9355963,43.1475623
END:VEVENT
BEGIN:VEVENT
DTSTART;TZID=America/Chicago:20260505T160000
DTEND;TZID=America/Chicago:20260505T180000
DTSTAMP:20260421T025619
CREATED:20260407T204258Z
LAST-MODIFIED:20260407T204258Z
UID:10002735-1777996800-1778004000@eliteclubs.com
SUMMARY:Mini Margaritas in Lobby
DESCRIPTION:Join us for a festive Cinco de Mayo celebration featuring fresh chips\, flavorful salsa\, and refreshing margaritas! Enjoy a relaxed social atmosphere while connecting with other members and celebrating the holiday in style.
URL:https://eliteclubs.com/event/mini-margaritas-in-lobby/
LOCATION:Mequon\, 11616 N Port Washington Rd\, Mequon\, WI\, 53092\, United States
CATEGORIES:Social Events
ATTACH;FMTTYPE=image/jpeg:https://eliteclubs.com/wp-content/uploads/2026/04/Mini-Margaritas-in-Lobby-Mequon-May-5-2026.jpeg
ORGANIZER;CN="Morgan Konz":MAILTO:morgankonz@eliteclubs.com
GEO:43.2297505;-87.9214671
X-APPLE-STRUCTURED-LOCATION;VALUE=URI;X-ADDRESS=Mequon 11616 N Port Washington Rd Mequon WI 53092 United States;X-APPLE-RADIUS=500;X-TITLE=11616 N Port Washington Rd:geo:-87.9214671,43.2297505
END:VEVENT
BEGIN:VEVENT
DTSTART;TZID=America/Chicago:20260505T160000
DTEND;TZID=America/Chicago:20260505T180000
DTSTAMP:20260421T025619
CREATED:20260408T195103Z
LAST-MODIFIED:20260408T195103Z
UID:10002739-1777996800-1778004000@eliteclubs.com
SUMMARY:Fiesta at Elite
DESCRIPTION:Join us for a festive Cinco de Mayo celebration featuring fresh chips\, flavorful salsa\, and refreshing margaritas. Enjoy relaxed social atmosphere while connecting with other members and celebrating the holiday in style!
URL:https://eliteclubs.com/event/fiesta-at-elite/
LOCATION:River Glen\, 2001 W Good Hope Rd\, Glendale\, WI\, 53209\, United States
CATEGORIES:Social Events
ATTACH;FMTTYPE=image/jpeg:https://eliteclubs.com/wp-content/uploads/2026/04/Fiesta-at-Elite-River-Glen-May-5-2026.jpeg
ORGANIZER;CN="Jakob Burns":MAILTO:jakobburns@eliteclubs.com
GEO:43.1475623;-87.9355963
X-APPLE-STRUCTURED-LOCATION;VALUE=URI;X-ADDRESS=River Glen 2001 W Good Hope Rd Glendale WI 53209 United States;X-APPLE-RADIUS=500;X-TITLE=2001 W Good Hope Rd:geo:-87.9355963,43.1475623
END:VEVENT
BEGIN:VEVENT
DTSTART;TZID=America/Chicago:20260505T190000
DTEND;TZID=America/Chicago:20260505T210000
DTSTAMP:20260421T025619
CREATED:20260406T173400Z
LAST-MODIFIED:20260406T173400Z
UID:10002734-1778007600-1778014800@eliteclubs.com
SUMMARY:Dink-O De Mayo Pickleball Mixer
DESCRIPTION:Get ready for Dink-o De Mayo! Enjoy 2 hours of round robin doubles pickleball action\, then celebrate with snacks\, drinks\, and good times. The perfect way to celebrate Cinco de Mayo!
URL:https://eliteclubs.com/event/dink-o-de-mayo-pickleball-mixer/
LOCATION:Mequon\, 11616 N Port Washington Rd\, Mequon\, WI\, 53092\, United States
CATEGORIES:Pickleball,Social Events,Sports
ATTACH;FMTTYPE=image/jpeg:https://eliteclubs.com/wp-content/uploads/2026/04/Dink-O-De-Mayo-Pickleball-Mixer-Mequon-May-5-2026.jpeg
ORGANIZER;CN="Jon Schaff":MAILTO:JonSchaff@eliteclubs.com
GEO:43.2297505;-87.9214671
X-APPLE-STRUCTURED-LOCATION;VALUE=URI;X-ADDRESS=Mequon 11616 N Port Washington Rd Mequon WI 53092 United States;X-APPLE-RADIUS=500;X-TITLE=11616 N Port Washington Rd:geo:-87.9214671,43.2297505
END:VEVENT
BEGIN:VEVENT
DTSTART;TZID=America/Chicago:20260507T180000
DTEND;TZID=America/Chicago:20260507T190000
DTSTAMP:20260421T025619
CREATED:20240916T154939Z
LAST-MODIFIED:20240916T154939Z
UID:10001529-1778176800-1778180400@eliteclubs.com
SUMMARY:Book Club
DESCRIPTION:Are you a book lover\, an avid reader\, or someone who simply enjoys getting lost in the pages of a great story? Look no further! Our Book Club is calling your name\, and we’ve got a cozy spot reserved just for you. \nDive into captivating novels\, explore different genres\, and discuss thought-provoking themes with other members! \nA different book will be selected each month by the group and then posted so anyone can join in.
URL:https://eliteclubs.com/event/book-club/2026-05-07/
LOCATION:Brookfield\, 13825 W Burleigh Rd\, Brookfield\, WI\, 53005\, United States
CATEGORIES:Social Events
ATTACH;FMTTYPE=image/jpeg:https://eliteclubs.com/wp-content/uploads/2024/09/Book-Club-Brookfield-Ongoing.jpeg
ORGANIZER;CN="Scott Eigenberg":MAILTO:scotteigenberg@eliteclubs.com
GEO:43.073063;-88.0846633
X-APPLE-STRUCTURED-LOCATION;VALUE=URI;X-ADDRESS=Brookfield 13825 W Burleigh Rd Brookfield WI 53005 United States;X-APPLE-RADIUS=500;X-TITLE=13825 W Burleigh Rd:geo:-88.0846633,43.073063
END:VEVENT
BEGIN:VEVENT
DTSTART;TZID=America/Chicago:20260509T140000
DTEND;TZID=America/Chicago:20260509T180000
DTSTAMP:20260421T025619
CREATED:20260325T184034Z
LAST-MODIFIED:20260325T184034Z
UID:10002724-1778335200-1778349600@eliteclubs.com
SUMMARY:Team Table Tennis Tournament
DESCRIPTION:You do not need to provide your own team for this competitive\, yet fun\, table tennis event. You will be placed on a team\, but requests for certain friends can be made. This tournament will be a mix of singles and doubles play in a team format. Food\, beverages\, and prizes for the winning team.
URL:https://eliteclubs.com/event/team-table-tennis-tournament/
LOCATION:Brookfield\, 13825 W Burleigh Rd\, Brookfield\, WI\, 53005\, United States
CATEGORIES:Social Events,Table Tennis
ATTACH;FMTTYPE=image/jpeg:https://eliteclubs.com/wp-content/uploads/2026/03/Team-Table-Tennis-Tournament-Brookfield-May-9-2026.jpeg
ORGANIZER;CN="Scott Eigenberg":MAILTO:scotteigenberg@eliteclubs.com
GEO:43.073063;-88.0846633
X-APPLE-STRUCTURED-LOCATION;VALUE=URI;X-ADDRESS=Brookfield 13825 W Burleigh Rd Brookfield WI 53005 United States;X-APPLE-RADIUS=500;X-TITLE=13825 W Burleigh Rd:geo:-88.0846633,43.073063
END:VEVENT
BEGIN:VEVENT
DTSTART;TZID=America/Chicago:20260515T173000
DTEND;TZID=America/Chicago:20260515T183000
DTSTAMP:20260421T025619
CREATED:20260402T174513Z
LAST-MODIFIED:20260402T180531Z
UID:10002731-1778866200-1778869800@eliteclubs.com
SUMMARY:Broadway Dance Tutorial
DESCRIPTION:Have you ever wanted to try learning the dances you’ve seen in musicals? Join professional dance instructor Stacy to dance along to some of Broadway’s greatest hits.
URL:https://eliteclubs.com/event/broadway-dance-tutorial/
LOCATION:River Glen\, 2001 W Good Hope Rd\, Glendale\, WI\, 53209\, United States
CATEGORIES:Fitness & Wellness,Social Events
ATTACH;FMTTYPE=image/jpeg:https://eliteclubs.com/wp-content/uploads/2026/04/Broadway-Dance-Tutorial-River-Glen-May-15-2026.jpeg
ORGANIZER;CN="Amy Hall":MAILTO:amyhall@eliteclubs.com
GEO:43.1475623;-87.9355963
X-APPLE-STRUCTURED-LOCATION;VALUE=URI;X-ADDRESS=River Glen 2001 W Good Hope Rd Glendale WI 53209 United States;X-APPLE-RADIUS=500;X-TITLE=2001 W Good Hope Rd:geo:-87.9355963,43.1475623
END:VEVENT
BEGIN:VEVENT
DTSTART;TZID=America/Chicago:20260518T180000
DTEND;TZID=America/Chicago:20260518T190000
DTSTAMP:20260421T025619
CREATED:20260417T211551Z
LAST-MODIFIED:20260417T211551Z
UID:10002746-1779127200-1779130800@eliteclubs.com
SUMMARY:Puzzle & Tea Night
DESCRIPTION:Join us for tea and puzzles! As we unwind and enjoy each other’s company to connect with members in the community and sip on some delicious tea while we help build fun and creative puzzles with one another!
URL:https://eliteclubs.com/event/puzzle-tea-night/
LOCATION:River Glen\, 2001 W Good Hope Rd\, Glendale\, WI\, 53209\, United States
CATEGORIES:Social Events
ATTACH;FMTTYPE=image/jpeg:https://eliteclubs.com/wp-content/uploads/2026/04/Puzzle-and-Tea-Night-River-Glen-May-18-2026.jpeg
ORGANIZER;CN="Jakob Burns":MAILTO:jakobburns@eliteclubs.com
GEO:43.1475623;-87.9355963
X-APPLE-STRUCTURED-LOCATION;VALUE=URI;X-ADDRESS=River Glen 2001 W Good Hope Rd Glendale WI 53209 United States;X-APPLE-RADIUS=500;X-TITLE=2001 W Good Hope Rd:geo:-87.9355963,43.1475623
END:VEVENT
END:VCALENDAR